View In:
ArcGIS JavaScript
ArcGIS Online Map Viewer
ArcGIS Earth
ArcGIS Pro
Service Description:
Map Name: תצלומי אוויר בני עש
Legend
All Layers and Tables
Layers:
Description:
Service Item Id: 472d9476148e457ebe3276768dc40a2d
Copyright Text:
Spatial Reference:
2039
(2039)
Single Fused Map Cache: true
Tile Info:
- Height: 256
- Width: 256
- DPI: 96
-
Levels of Detail: 19
-
Level ID: 0
[ Start Tile, End Tile ]
- Resolution: 78140.87298748764
- Scale: 2.953355829448352E8
-
Level ID: 1
[ Start Tile, End Tile ]
- Resolution: 39070.43649374382
- Scale: 1.476677914724176E8
-
Level ID: 2
[ Start Tile, End Tile ]
- Resolution: 19535.21824687191
- Scale: 7.38338957362088E7
-
Level ID: 3
[ Start Tile, End Tile ]
- Resolution: 9767.609123435956
- Scale: 3.69169478681044E7
-
Level ID: 4
[ Start Tile, End Tile ]
- Resolution: 4883.804561717978
- Scale: 1.84584739340522E7
-
Level ID: 6
[ Start Tile, End Tile ]
- Resolution: 1220.9511404294944
- Scale: 4614618.48351305
-
Level ID: 7
[ Start Tile, End Tile ]
- Resolution: 610.4755702147472
- Scale: 2307309.241756525
-
Level ID: 8
[ Start Tile, End Tile ]
- Resolution: 305.2377851073736
- Scale: 1153654.6208782624
-
Level ID: 9
[ Start Tile, End Tile ]
- Resolution: 152.6188925536868
- Scale: 576827.3104391312
-
Level ID: 10
[ Start Tile, End Tile ]
- Resolution: 76.3094462768434
- Scale: 288413.6552195656
-
Level ID: 11
[ Start Tile, End Tile ]
- Resolution: 38.1547231384217
- Scale: 144206.8276097828
-
Level ID: 12
[ Start Tile, End Tile ]
- Resolution: 19.07736156921085
- Scale: 72103.4138048914
-
Level ID: 13
[ Start Tile, End Tile ]
- Resolution: 9.538680784605425
- Scale: 36051.7069024457
-
Level ID: 14
[ Start Tile, End Tile ]
- Resolution: 4.769340392302713
- Scale: 18025.85345122285
-
Level ID: 15
[ Start Tile, End Tile ]
- Resolution: 2.3846701961513563
- Scale: 9012.926725611425
-
Level ID: 16
[ Start Tile, End Tile ]
- Resolution: 1.1923350980756782
- Scale: 4506.463362805713
-
Level ID: 17
[ Start Tile, End Tile ]
- Resolution: 0.5961675490378391
- Scale: 2253.2316814028563
-
Level ID: 18
[ Start Tile, End Tile ]
- Resolution: 0.29808377451891954
- Scale: 1126.6158407014282
- Format: JPEG
- Compression Quality: 75.0
- Origin: X: -9782502.15839842
Y: 7116514.793847509
- Spatial Reference: 2039
(2039)
Storage Info:
- Storage Format: esriMapCacheStorageModeCompactV2
- Packet Size: 128
Initial Extent:
XMin: 177308.73172952785
YMin: 632988.7607070957
XMax: 177366.58855165643
YMax: 633034.9507089967
Spatial Reference: 2039
(2039)
Full Extent:
XMin: 174603.77649808602
YMin: 630898.2178595029
XMax: 179692.84480924954
YMax: 634987.3328126274
Spatial Reference: 2039
(2039)
Units: esriMeters
Supported Image Format Types: PNG32,PNG24,PNG,JPG,DIB,TIFF,EMF,PS,PDF,GIF,SVG,SVGZ,BMP
Document Info:
Title: תצלומי אוויר בני עש
Author:
Comments:
Subject:
Category:
Keywords:
AntialiasingMode: None
TextAntialiasingMode: Force
Supports Dynamic Layers: false
MaxRecordCount: 1000
MaxImageHeight: 4096
MaxImageWidth: 4096
Supported Query Formats: JSON, geoJSON, PBF
Supports Query Data Elements: true
Min Scale: 576827.3104391312
Max Scale: 1126.6158407014282
Min LOD: 9
Max LOD: 18
Supports Datum Transformation: true
Child Resources:
Info
Supported Operations:
QueryLegends
Return Updates