{
 "currentVersion": 11.3,
 "cimVersion": "3.3.0",
 "serviceDescription": "",
 "mapName": "תצלומי אוויר בני עש",
 "description": "",
 "copyrightText": "",
 "supportsDynamicLayers": false,
 "layers": [
  {
   "id": 0,
   "name": "בני_עיש.tpkx",
   "parentLayerId": -1,
   "defaultVisibility": true,
   "subLayerIds": null,
   "minScale": 0,
   "maxScale": 0,
   "type": "Raster Layer",
   "supportsDynamicLegends": true
  }
 ],
 "tables": [],
 "spatialReference": {
  "wkid": 2039,
  "latestWkid": 2039,
  "xyTolerance": 0.001,
  "zTolerance": 0.001,
  "mTolerance": 0.001,
  "falseX": -5403700,
  "falseY": -12887700,
  "xyUnits": 10000,
  "falseZ": -100000,
  "zUnits": 10000,
  "falseM": -100000,
  "mUnits": 10000
 },
 "singleFusedMapCache": true,
 "tileInfo": {
  "rows": 256,
  "cols": 256,
  "dpi": 96,
  "format": "JPEG",
  "compressionQuality": 75,
  "origin": {
   "x": -9782502.15839842,
   "y": 7116514.793847509
  },
  "spatialReference": {
   "wkid": 2039,
   "latestWkid": 2039,
   "xyTolerance": 0.001,
   "zTolerance": 0.001,
   "mTolerance": 0.001,
   "falseX": -5403700,
   "falseY": -12887700,
   "xyUnits": 10000,
   "falseZ": -100000,
   "zUnits": 10000,
   "falseM": -100000,
   "mUnits": 10000
  },
  "lods": [
   {
    "level": 0,
    "resolution": 78140.87298748764,
    "scale": 2.953355829448352E8
   },
   {
    "level": 1,
    "resolution": 39070.43649374382,
    "scale": 1.476677914724176E8
   },
   {
    "level": 2,
    "resolution": 19535.21824687191,
    "scale": 7.38338957362088E7
   },
   {
    "level": 3,
    "resolution": 9767.609123435956,
    "scale": 3.69169478681044E7
   },
   {
    "level": 4,
    "resolution": 4883.804561717978,
    "scale": 1.84584739340522E7
   },
   {
    "level": 5,
    "resolution": 2441.902280858989,
    "scale": 9229236.9670261
   },
   {
    "level": 6,
    "resolution": 1220.9511404294944,
    "scale": 4614618.48351305
   },
   {
    "level": 7,
    "resolution": 610.4755702147472,
    "scale": 2307309.241756525
   },
   {
    "level": 8,
    "resolution": 305.2377851073736,
    "scale": 1153654.6208782624
   },
   {
    "level": 9,
    "resolution": 152.6188925536868,
    "scale": 576827.3104391312
   },
   {
    "level": 10,
    "resolution": 76.3094462768434,
    "scale": 288413.6552195656
   },
   {
    "level": 11,
    "resolution": 38.1547231384217,
    "scale": 144206.8276097828
   },
   {
    "level": 12,
    "resolution": 19.07736156921085,
    "scale": 72103.4138048914
   },
   {
    "level": 13,
    "resolution": 9.538680784605425,
    "scale": 36051.7069024457
   },
   {
    "level": 14,
    "resolution": 4.769340392302713,
    "scale": 18025.85345122285
   },
   {
    "level": 15,
    "resolution": 2.3846701961513563,
    "scale": 9012.926725611425
   },
   {
    "level": 16,
    "resolution": 1.1923350980756782,
    "scale": 4506.463362805713
   },
   {
    "level": 17,
    "resolution": 0.5961675490378391,
    "scale": 2253.2316814028563
   },
   {
    "level": 18,
    "resolution": 0.29808377451891954,
    "scale": 1126.6158407014282
   }
  ]
 },
 "storageInfo": {
  "storageFormat": "esriMapCacheStorageModeCompactV2",
  "packetSize": 128
 },
 "initialExtent": {
  "xmin": 177308.73172952785,
  "ymin": 632988.7607070957,
  "xmax": 177366.58855165643,
  "ymax": 633034.9507089967,
  "spatialReference": {
   "wkid": 2039,
   "latestWkid": 2039,
   "xyTolerance": 0.001,
   "zTolerance": 0.001,
   "mTolerance": 0.001,
   "falseX": -5403700,
   "falseY": -12887700,
   "xyUnits": 10000,
   "falseZ": -100000,
   "zUnits": 10000,
   "falseM": -100000,
   "mUnits": 10000
  }
 },
 "fullExtent": {
  "xmin": 174603.77649808602,
  "ymin": 630898.2178595029,
  "xmax": 179692.84480924954,
  "ymax": 634987.3328126274,
  "spatialReference": {
   "wkid": 2039,
   "latestWkid": 2039,
   "xyTolerance": 0.001,
   "zTolerance": 0.001,
   "mTolerance": 0.001,
   "falseX": -5403700,
   "falseY": -12887700,
   "xyUnits": 10000,
   "falseZ": -100000,
   "zUnits": 10000,
   "falseM": -100000,
   "mUnits": 10000
  }
 },
 "datesInUnknownTimezone": false,
 "units": "esriMeters",
 "supportedImageFormatTypes": "PNG32,PNG24,PNG,JPG,DIB,TIFF,EMF,PS,PDF,GIF,SVG,SVGZ,BMP",
 "documentInfo": {
  "Title": "תצלומי אוויר בני עש",
  "Author": "",
  "Comments": "",
  "Subject": "",
  "Category": "",
  "Version": "3.3.0",
  "AntialiasingMode": "None",
  "TextAntialiasingMode": "Force",
  "Keywords": ""
 },
 "supportsQueryDomains": true,
 "supportedQueryFormats": "JSON, geoJSON, PBF",
 "referenceScale": 0.0,
 "datumTransformations": [
  {
   "geoTransforms": [
    {
     "wkid": 108021,
     "latestWkid": 108021,
     "transformForward": true,
     "name": "WGS_1984_To_Israel_CoordFrame"
    }
   ]
  },
  {
   "geoTransforms": [
    {
     "wkid": 108021,
     "latestWkid": 108021,
     "transformForward": false,
     "name": "WGS_1984_To_Israel_CoordFrame"
    }
   ]
  },
  {
   "geoTransforms": [
    {
     "wkid": 108021,
     "latestWkid": 108021,
     "transformForward": true,
     "name": "WGS_1984_To_Israel_CoordFrame"
    }
   ]
  },
  {
   "geoTransforms": [
    {
     "wkid": 108021,
     "latestWkid": 108021,
     "transformForward": false,
     "name": "WGS_1984_To_Israel_CoordFrame"
    }
   ]
  }
 ],
 "supportsDatumTransformation": true,
 "floorAwareMapProperties": {
  "defaultFloorFilterSettings": {
   "isEnabled": false
  }
 },
 "archivingInfo": {
  "supportsHistoricMoment": false
 },
 "supportsClipping": true,
 "supportsSpatialFilter": true,
 "supportsTimeRelation": true,
 "supportsQueryDataElements": true,
 "mapUnits": {
  "uwkid": 9001
 },
 "maxRecordCount": 1000,
 "maxImageHeight": 4096,
 "maxImageWidth": 4096,
 "capabilities": "TilesOnly,Tilemap",
 "minScale": 576827.3104391312,
 "maxScale": 1126.6158407014282,
 "exportTilesAllowed": false,
 "maxExportTilesCount": 100000,
 "minLOD": 9,
 "maxLOD": 18,
 "supportedExtensions": "",
 "serviceItemId": "472d9476148e457ebe3276768dc40a2d"
}
